BEGIN:VCALENDAR
VERSION:2.0
PRODID:-//ChamberMaster//Event Calendar 2.0//EN
METHOD:PUBLISH
X-PUBLISHED-TTL:P3D
REFRESH-INTERVAL:P3D
CALSCALE:GREGORIAN
BEGIN:VEVENT
DTSTART:20091112T230000Z
DTEND:20091113T013000Z
X-MICROSOFT-CDO-ALLDAYEVENT:FALSE
SUMMARY:Citywide Trails Master Plan Review
DESCRIPTION:The public is invited to this important community meeting.  Open house to preview the draft for the citywide trails master plan.  Presentation at 6:00 pm.  For more information\, please contact the Harlingen Parks & Recreation Department at 956-216-5951.
X-ALT-DESC;FMTTYPE=text/html:The public is invited to this important community meeting.  Open house to preview the draft for the citywide trails master plan.  Presentation at 6:00 pm.  For more information\, please contact the Harlingen Parks & Recreation Department at 956-216-5951.
LOCATION:Located next to the Harlingen Public Library
UID:e.1828.2204
SEQUENCE:3
DTSTAMP:20260422T130016Z
URL:https://business.harlingen.com/events/details/citywide-trails-master-plan-review-11-12-2009-2204
END:VEVENT

END:VCALENDAR
