BEGIN:VCALENDAR
VERSION:2.0
PRODID:-//ChamberMaster//Event Calendar 2.0//EN
METHOD:PUBLISH
X-PUBLISHED-TTL:P3D
REFRESH-INTERVAL:P3D
CALSCALE:GREGORIAN
BEGIN:VEVENT
DTSTART:20100624T223000Z
DTEND:20100624T223000Z
X-MICROSOFT-CDO-ALLDAYEVENT:FALSE
SUMMARY:Clinical Pathology Laboratories Ribbon Cutting
DESCRIPTION:Clinical Pathology Laboratories Ribbon Cutting \n        \n\n        Thursday\, June 24\; 5:30 pm \n        \n\n        1713 Treasure Hills Blvd.\, Ste. 1 A\, Harlingen (956) 440-0700 \n        \n\n         \n\n        Clinical Pathology Laboratories has moved to a new location and we're celebrating the occasion with a ribbon cutting and reception. Join us for this special event.
X-ALT-DESC;FMTTYPE=text/html:<html xmlns:o= "urn:schemas-microsoft-com:office:office">\n<head>\n    <link href="http://harlingentxcoc.weblinkconnect.com/WCControls/WCControls.css" type="text/css" rel="Stylesheet" />\n</head>\n<body class="GeneralBody">\n    <p class="MsoNormal" style="MARGIN: 0in 0in 0pt">\n        <strong><span style="FONT-SIZE: 10pt\; COLOR: #000066\; FONT-FAMILY: 'Arial'\,'sans-serif'">Clinical Pathology Laboratories Ribbon Cutting</span></strong><span style="FONT-SIZE: 10pt\; COLOR: #857458\; FONT-FAMILY: 'Arial'\,'sans-serif'"> \n        <br />\n        <strong><span style="FONT-FAMILY: 'Arial'\,'sans-serif'">Thursday\, June 24\; 5:30 pm</span></strong><b> \n        <br />\n        <strong><span style="FONT-FAMILY: 'Arial'\,'sans-serif'">1713 Treasure Hills Blvd.\, Ste. 1 A\,&nbsp\;Harlingen (956) 440-0700</span></strong> \n        <br />\n        </b>&nbsp\;<br />\n        Clinical Pathology Laboratories&nbsp\;has moved to a new location and we're celebrating the occasion with a ribbon cutting&nbsp\;and reception.&nbsp\;Join us for this special event.<o:p></o:p>\n        </span>\n    </p>\n</body>\n</html>\n
LOCATION:
UID:e.1828.2575
SEQUENCE:3
DTSTAMP:20260422T031103Z
URL:https://business.harlingen.com/events/details/clinical-pathology-laboratories-ribbon-cutting-06-24-2010-2575
END:VEVENT

END:VCALENDAR
