BEGIN:VCALENDAR
VERSION:2.0
PRODID:-//ChamberMaster//Event Calendar 2.0//EN
METHOD:PUBLISH
X-PUBLISHED-TTL:P3D
REFRESH-INTERVAL:P3D
CALSCALE:GREGORIAN
BEGIN:VEVENT
DTSTART:20110428T220000Z
DTEND:20110428T220000Z
X-MICROSOFT-CDO-ALLDAYEVENT:FALSE
SUMMARY:Closet Couture Stylist
DESCRIPTION:Join us in welcoming new chamber member Closet Couture stylist by attending our Business After Hours Mixer. Drinks and hors d' oeuvres will be served in addition to a ribbon cutting ceremony held at 5:30 p.m. Closet Couture stylist is a closet organization service which was inspired by the owner's love for fashion\, trends\, and a functional closet.
X-ALT-DESC;FMTTYPE=text/html:Join us in welcoming new chamber member Closet Couture stylist by attending our Business After Hours Mixer. Drinks and hors d' oeuvres will be served in addition to a ribbon cutting ceremony held at 5:30 p.m. Closet Couture stylist is a closet organization service which was inspired by the owner's love for fashion\, trends\, and a functional closet.  \n
LOCATION:
UID:e.1828.3006
SEQUENCE:3
DTSTAMP:20260421T124531Z
URL:https://business.harlingen.com/events/details/closet-couture-stylist-04-28-2011-3006
END:VEVENT

END:VCALENDAR
