BEGIN:VCALENDAR
VERSION:2.0
PRODID:-//ChamberMaster//Event Calendar 2.0//EN
METHOD:PUBLISH
X-PUBLISHED-TTL:P3D
REFRESH-INTERVAL:P3D
CALSCALE:GREGORIAN
BEGIN:VEVENT
DTSTART:20091216T132500Z
DTEND:20091216T150000Z
X-MICROSOFT-CDO-ALLDAYEVENT:FALSE
SUMMARY:Coffee Connection
DESCRIPTION:Workforce Solutions proudly presents COFFEE CONNECTION at the Rialto Reception Hall located on  103 West Jackson.  Free Pastries and coffee to all our businesses. Our guest speaker will be Juan Gonzalez (attorney at law from McAllen) . The topic is EMPLOYER RIGHTS.  Come and bring another business associate to learn about the law and what WORKFORCE SOLUTIONS can do for your business.
X-ALT-DESC;FMTTYPE=text/html:Workforce Solutions proudly presents COFFEE CONNECTION at the Rialto Reception Hall located on  103 West Jackson.  Free Pastries and coffee to all our businesses. Our guest speaker will be Juan Gonzalez (attorney at law from McAllen) . The topic is EMPLOYER RIGHTS.  Come and bring another business associate to learn about the law and what WORKFORCE SOLUTIONS can do for your business.  
LOCATION:103 West Jackson located in the old Rialto Building (downtown Harlingen)
UID:e.1828.2249
SEQUENCE:3
DTSTAMP:20260422T124750Z
URL:https://business.harlingen.com/events/details/coffee-connection-12-16-2009-2249
END:VEVENT

END:VCALENDAR
