BEGIN:VCALENDAR
VERSION:2.0
PRODID:-//ChamberMaster//Event Calendar 2.0//EN
METHOD:PUBLISH
X-PUBLISHED-TTL:P3D
REFRESH-INTERVAL:P3D
CALSCALE:GREGORIAN
BEGIN:VEVENT
DTSTART:20110325T210000Z
DTEND:20110326T000000Z
X-MICROSOFT-CDO-ALLDAYEVENT:FALSE
SUMMARY:College Bowl at TSTC to Sharpen Minds
DESCRIPTION:Students\, employees and the public are invited to watch Allied Health Technology Division teams square off in a battle of the minds during the TSTC College Bowl. Teams will include Dental Hygiene\, Surgical Technology\, Medical Assistant and Associate of Science Degree Nursing Preparatory. There will be a $100 prize and a trophy for the winning team. The admission fee is $3 per person and concessions will be sold. For advance ticket purchases\, contact ST students or club sponsor Anna Ornelas at 956.364.4810\, anna.ornelas@harlingen.tstc.edu.
X-ALT-DESC;FMTTYPE=text/html:Students\, employees and the public are invited to watch Allied Health Technology Division teams square off in a battle of the minds during the TSTC College Bowl. Teams will include Dental Hygiene\, Surgical Technology\, Medical Assistant and Associate of Science Degree Nursing Preparatory. There will be a $100 prize and a trophy for the winning team. The admission fee is $3 per person and concessions will be sold. For advance ticket purchases\, contact ST students or club sponsor Anna Ornelas at 956.364.4810\, anna.ornelas@harlingen.tstc.edu. \n  \n
LOCATION:
UID:e.1828.2998
SEQUENCE:3
DTSTAMP:20260421T124913Z
URL:https://business.harlingen.com/events/details/college-bowl-at-tstc-to-sharpen-minds-03-25-2011-2998
END:VEVENT

END:VCALENDAR
