BEGIN:VCALENDAR
VERSION:2.0
PRODID:-//ChamberMaster//Event Calendar 2.0//EN
METHOD:PUBLISH
X-PUBLISHED-TTL:P3D
REFRESH-INTERVAL:P3D
CALSCALE:GREGORIAN
BEGIN:VEVENT
DTSTART:20110503T210000Z
DTEND:20110503T210000Z
X-MICROSOFT-CDO-ALLDAYEVENT:FALSE
SUMMARY:Colletti's at the Reese First Wine Tasting
DESCRIPTION:The feature will be a great Pinot Noir selection from National Republic Distributing Company.There will be a charge of 30.00 per person\, which will include the tasting of all the wines and chef selected appetizers. Please tell your friends. Everyone is welcome!
X-ALT-DESC;FMTTYPE=text/html:The feature will be a great Pinot Noir selection from National Republic Distributing Company.There will be a charge of 30.00 per person\, which will include the tasting of all the wines and chef selected appetizers. Please tell your friends. Everyone is welcome!\n
LOCATION:
UID:e.1828.3045
SEQUENCE:3
DTSTAMP:20260421T094312Z
URL:https://business.harlingen.com/events/details/colletti-s-at-the-reese-first-wine-tasting-05-03-2011-3045
END:VEVENT

END:VCALENDAR
