BEGIN:VCALENDAR
VERSION:2.0
PRODID:-//ChamberMaster//Event Calendar 2.0//EN
METHOD:PUBLISH
X-PUBLISHED-TTL:P3D
REFRESH-INTERVAL:P3D
CALSCALE:GREGORIAN
BEGIN:VEVENT
DTSTART:20121107T010000Z
DTEND:20121107T010000Z
X-MICROSOFT-CDO-ALLDAYEVENT:FALSE
SUMMARY:Colletti's Crown Royal Tasting Event
DESCRIPTION:The Reese/ Colletti's will host their next tasting event giving tribute to the Crown Royal Family.  Be one of the first in the valley to try the newest addition to the Crown Royal Family\, Crown Maple!  The fee for tasting is $10 if purchased by Monday\, November 5th.  Walk-ins are welcome but will be charged $15 at the door.  Don't wait!  Seating is extremely limited so stop by the restaurant today and reserve your place!  For more information call (956) 423-3140.
X-ALT-DESC;FMTTYPE=text/html:The Reese/ Colletti's will host their next tasting event giving tribute to the Crown Royal Family.  Be one of the first in the valley to try the newest addition to the Crown Royal Family\, Crown Maple!  The fee for tasting is $10 if purchased by Monday\, November 5th.  Walk-ins are welcome but will be charged $15 at the door.  Don't wait!  Seating is extremely limited so stop by the restaurant today and reserve your place!  For more information call (956) 423-3140.
LOCATION:
UID:e.1828.4130
SEQUENCE:3
DTSTAMP:20260420T085555Z
URL:https://business.harlingen.com/events/details/colletti-s-crown-royal-tasting-event-11-06-2012-4130
END:VEVENT

END:VCALENDAR
