BEGIN:VCALENDAR
VERSION:2.0
PRODID:-//ChamberMaster//Event Calendar 2.0//EN
METHOD:PUBLISH
X-PUBLISHED-TTL:P3D
REFRESH-INTERVAL:P3D
CALSCALE:GREGORIAN
BEGIN:VEVENT
DTSTART;VALUE=DATE:20121002
DTEND;VALUE=DATE:20121004
TRANSP:TRANSPARENT
X-MICROSOFT-CDO-ALLDAYEVENT:TRUE
SUMMARY:Colletti's is Celebrating Oktoberfest!
DESCRIPTION:Colletti's is celebrating Oktoberfest on the front patio!  There will be  music\, authentic Oktoberfest cuisine\, and of course....BEER!  Tickets are now on sale so drop by today and reserve a place for your party to receive the pre-paid rate of $10 per person\, per night.  You can still make reservations by calling (956) 423-3140\, but will be charged $15 unless you come by and pay ahead of time!  The admission fee covers 2 16 oz beers and your choice of Bratwurst with Sauerkraut or a Large Soft Pretzel with German Mustard.
X-ALT-DESC;FMTTYPE=text/html:Colletti's is celebrating Oktoberfest on the front patio!  There will be  music\, authentic Oktoberfest cuisine\, and of course....BEER!  Tickets are now on sale so drop by today and reserve a place for your party to receive the pre-paid rate of $10 per person\, per night.  You can still make reservations by calling (956) 423-3140\, but will be charged $15 unless you come by and pay ahead of time!  The admission fee covers 2 16 oz beers and your choice of Bratwurst with Sauerkraut or a Large Soft Pretzel with German Mustard.  
LOCATION:
UID:e.1828.4034
SEQUENCE:3
DTSTAMP:20260420T085841Z
URL:https://business.harlingen.com/events/details/colletti-s-is-celebrating-oktoberfest-10-02-2012-4034
END:VEVENT

END:VCALENDAR
