BEGIN:VCALENDAR
VERSION:2.0
PRODID:-//ChamberMaster//Event Calendar 2.0//EN
METHOD:PUBLISH
X-PUBLISHED-TTL:P3D
REFRESH-INTERVAL:P3D
CALSCALE:GREGORIAN
BEGIN:VEVENT
DTSTART:20110818T223000Z
DTEND:20110818T223000Z
X-MICROSOFT-CDO-ALLDAYEVENT:FALSE
SUMMARY:Collision Center Auto Body & Glass
DESCRIPTION:Come celebrate Collision Center's 25 years of service with a Business After Hours Mixer and joint Ribbon Cutting with McAllen's\, Harlingen's and Weslaco's Chamber of Commerce
X-ALT-DESC;FMTTYPE=text/html:Come celebrate Collision Center's 25 years of service with a Business After Hours Mixer and joint Ribbon Cutting with McAllen's\, Harlingen's and Weslaco's Chamber of Commerce\n
LOCATION:
UID:e.1828.3139
SEQUENCE:3
DTSTAMP:20260421T052627Z
URL:https://business.harlingen.com/events/details/collision-center-auto-body-glass-08-18-2011-3139
END:VEVENT

END:VCALENDAR
