BEGIN:VCALENDAR
VERSION:2.0
PRODID:-//ChamberMaster//Event Calendar 2.0//EN
METHOD:PUBLISH
X-PUBLISHED-TTL:P3D
REFRESH-INTERVAL:P3D
CALSCALE:GREGORIAN
BEGIN:VEVENT
DTSTART:20120116T170000Z
DTEND:20120116T170000Z
X-MICROSOFT-CDO-ALLDAYEVENT:FALSE
SUMMARY:Colonel Bill Card Jr. Boulevard Dedication Ceremony
DESCRIPTION:You are cordially invited to attend the dedication ceremony of Colonel Bill Card Jr. Boulevard. \nIntersection of Loop 499 at FM 106 on the NE corner (grassy area in front of Cardenas Motors)\nReception to follow at the Harlingen Area Chamber of Commerce\, 311 E. Tyler\, Harlingen\, Texas
X-ALT-DESC;FMTTYPE=text/html:You are cordially invited to attend the dedication ceremony of Colonel Bill Card Jr. Boulevard. \nIntersection of Loop 499 at FM 106 on the NE corner (grassy area in front of Cardenas Motors)\nReception to follow at the Harlingen Area Chamber of Commerce\, 311 E. Tyler\, Harlingen\, Texas \n
LOCATION:
UID:e.1828.3362
SEQUENCE:3
DTSTAMP:20260420T212151Z
URL:https://business.harlingen.com/events/details/colonel-bill-card-jr-boulevard-dedication-ceremony-01-16-2012-3362
END:VEVENT

END:VCALENDAR
