BEGIN:VCALENDAR
VERSION:2.0
PRODID:-//ChamberMaster//Event Calendar 2.0//EN
METHOD:PUBLISH
X-PUBLISHED-TTL:P3D
REFRESH-INTERVAL:P3D
CALSCALE:GREGORIAN
BEGIN:VEVENT
DTSTART:20100722T220000Z
DTEND:20100722T140000Z
X-MICROSOFT-CDO-ALLDAYEVENT:FALSE
SUMMARY:Come out to Mr. Gatti's Pizza and say MOPS!
DESCRIPTION:Solid Ground International MOPS invites you to help support us to provide a place to find friendship\, community\, resources and support for you as a woman and mother so you're not alone.\n Moms have found community through MOPS for almost 40 years - we're your mothering authority. MOPS holds and shares the collected wisdom of mothers  (usually one and the same!)\; add your voice to the conversation!
X-ALT-DESC;FMTTYPE=text/html: Solid Ground International MOPS invites you to help support us to provide a place to find friendship\, community\, resources and support for you as a woman and mother so you're not alone.\n Moms have found community through MOPS for almost 40 years - we're your mothering authority. MOPS holds and shares the collected wisdom of mothers  (usually one and the same!)\; add your voice to the conversation!\n
LOCATION:1208 South 7th (across Save a Lot)
UID:e.1828.2598
SEQUENCE:3
DTSTAMP:20260422T015650Z
URL:https://business.harlingen.com/events/details/come-out-to-mr-gatti-s-pizza-and-say-mops-07-22-2010-2598
END:VEVENT

END:VCALENDAR
