BEGIN:VCALENDAR
VERSION:2.0
PRODID:-//ChamberMaster//Event Calendar 2.0//EN
METHOD:PUBLISH
X-PUBLISHED-TTL:P3D
REFRESH-INTERVAL:P3D
CALSCALE:GREGORIAN
BEGIN:VEVENT
DTSTART:20111109T233000Z
DTEND:20111110T010000Z
X-MICROSOFT-CDO-ALLDAYEVENT:FALSE
SUMMARY:Community Meeting-City of Harlingen District 1
DESCRIPTION:City Commissioner Gus Ruiz invites all residents of District 1 to attend a community meeting to discuss community issues and provide an updated report on District 1.
X-ALT-DESC;FMTTYPE=text/html:City Commissioner Gus Ruiz invites all residents of District 1 to attend a community meeting to discuss community issues and provide an updated report on District 1.\n
LOCATION:
UID:e.1828.3258
SEQUENCE:3
DTSTAMP:20260421T004458Z
URL:https://business.harlingen.com/events/details/community-meeting-city-of-harlingen-district-1-11-09-2011-3258
END:VEVENT

END:VCALENDAR
