BEGIN:VCALENDAR
VERSION:2.0
PRODID:-//ChamberMaster//Event Calendar 2.0//EN
METHOD:PUBLISH
X-PUBLISHED-TTL:P3D
REFRESH-INTERVAL:P3D
CALSCALE:GREGORIAN
BEGIN:VEVENT
DTSTART:20090917T170000Z
DTEND:20090917T170000Z
X-MICROSOFT-CDO-ALLDAYEVENT:FALSE
SUMMARY:Constitution Day\, YouTube.com Video Contest
DESCRIPTION:Show us and the rest of the world what Constitution Day means to you for a chance to win $150.  Contest Rules: \n1.  Create and submit a video to YouTube.com\,  2.	 Video must be no longer than 3 minutes in length\,  3.  All work must be original\, non-copyrighted material relevant to the name Constitution Day theme.  Four Award Categories: UTB/TSC Individual\, UTB/TSC Group\, K-12 Individual and K-12 Group.  Winners to be announced during the event.  Deadline to submit an entry is Friday\, September 11\, 2009 at 4 p.m.  For more information\, call 882-5141.
X-ALT-DESC;FMTTYPE=text/html:Show us and the rest of the world what Constitution Day means to you for a chance to win $150.  Contest Rules: \n1.  Create and submit a video to YouTube.com\,  2.	 Video must be no longer than 3 minutes in length\,  3.  All work must be original\, non-copyrighted material relevant to the name Constitution Day theme.  Four Award Categories: UTB/TSC Individual\, UTB/TSC Group\, K-12 Individual and K-12 Group.  Winners to be announced during the event.  Deadline to submit an entry is Friday\, September 11\, 2009 at 4 p.m.  For more information\, call 882-5141.\n\n
LOCATION:
UID:e.1828.2059
SEQUENCE:3
DTSTAMP:20260422T093601Z
URL:https://business.harlingen.com/events/details/constitution-day-youtube-com-video-contest-09-17-2009-2059
END:VEVENT

END:VCALENDAR
