BEGIN:VCALENDAR
VERSION:2.0
PRODID:-//ChamberMaster//Event Calendar 2.0//EN
METHOD:PUBLISH
X-PUBLISHED-TTL:P3D
REFRESH-INTERVAL:P3D
CALSCALE:GREGORIAN
BEGIN:VEVENT
DTSTART:20120607T230000Z
DTEND:20120608T020000Z
X-MICROSOFT-CDO-ALLDAYEVENT:FALSE
SUMMARY:"Contemporary Views of Historic Downtown Harlingen" Exhibit Opening & Reception
DESCRIPTION:Come see the fabulous photographs submitted by kids\, teens\, adults\, and professionals during Downtown Harlingen's Preservation Month photo contest.  Photo Contest and Scavenger Hunt winners will be announced at this reception\, which is free and open to the public.  Exhibit will continue thru June 30th.  For more information\, call the Harlingen Downtown office\, 216-4910.
X-ALT-DESC;FMTTYPE=text/html:Come see the fabulous photographs submitted by kids\, teens\, adults\, and professionals during Downtown Harlingen's Preservation Month photo contest.  Photo Contest and Scavenger Hunt winners will be announced at this reception\, which is free and open to the public.  Exhibit will continue thru June 30th.  For more information\, call the Harlingen Downtown office\, 216-4910.\n\n
LOCATION:
UID:e.1828.3745
SEQUENCE:3
DTSTAMP:20260420T132832Z
URL:https://business.harlingen.com/events/details/contemporary-views-of-historic-downtown-harlingen-exhibit-opening-reception-06-07-2012-3745
END:VEVENT

END:VCALENDAR
