BEGIN:VCALENDAR
VERSION:2.0
PRODID:-//ChamberMaster//Event Calendar 2.0//EN
METHOD:PUBLISH
X-PUBLISHED-TTL:P3D
REFRESH-INTERVAL:P3D
CALSCALE:GREGORIAN
BEGIN:VEVENT
DTSTART:20101001T233000Z
DTEND:20101030T013000Z
X-MICROSOFT-CDO-ALLDAYEVENT:FALSE
SUMMARY:Coronary Health Improvement Project (CHIP)
DESCRIPTION:The sessions will empower participants within 30 days to make better lifestyle choices to disarm Diabetes\, Lower High Blood Pressure\, Reduce High Cholesterol by 15-20%\, shed extra pounds\, Improve digestion and regularity\, and to Reduce reliance on expensive prescription drugs!\nSessions will be held at the Texas Room of Golden Palms Retirement   and on Oct. 29\, at the end of seminar to evaluate participant's progress.\nCHIP's 16 Regular sessions will begin Oct. 4 to October 28 - 4 days a week (Mondays through Thursdays) for 4 weeks at 2 hours every session.
X-ALT-DESC;FMTTYPE=text/html:The sessions will empower participants within 30 days to make better lifestyle choices to disarm Diabetes\, Lower High Blood Pressure\, Reduce High Cholesterol by 15-20%\, shed extra pounds\, Improve digestion and regularity\, and to Reduce reliance on expensive prescription drugs!\nSessions will be held at the Texas Room of Golden Palms Retirement & Health Care Center at 2101 Treasure Hills Blvd.\, in Harlingen\nThe program include: 2 HeartScreen health evaluations- on Oct 1\, before seminar begins\; and on Oct. 29\, at the end of seminar to evaluate participant's progress.\nCHIP's 16 Regular sessions will begin Oct. 4 to October 28 - 4 days a week (Mondays through Thursdays) for 4 weeks at 2 hours every session.
LOCATION:Golden Palms Retirement & Health Care Center is located at the back of Valley Baptist Hospital along Treasure Hills Blvd. Coming from 77 South\, exit at Ed Carey Drive- turn left on Ed Carey\, right turn on 77 Sunshine Strip\, and turn left on Treasure Hills Blvd.
UID:e.1828.2768
SEQUENCE:3
DTSTAMP:20260421T222218Z
URL:https://business.harlingen.com/events/details/coronary-health-improvement-project-chip-10-01-2010-2768
END:VEVENT

END:VCALENDAR
