BEGIN:VCALENDAR
VERSION:2.0
PRODID:-//ChamberMaster//Event Calendar 2.0//EN
METHOD:PUBLISH
X-PUBLISHED-TTL:P3D
REFRESH-INTERVAL:P3D
CALSCALE:GREGORIAN
BEGIN:VEVENT
DTSTART:20100528T183000Z
DTEND:20100528T183000Z
X-MICROSOFT-CDO-ALLDAYEVENT:FALSE
SUMMARY:Corps of Cadets Academic and Post Season Athletic Awards Presentation
DESCRIPTION:Corps of Cadets Academic and Post Season Athletic Awards Presentation: Award recipients will receive recognition in the following areas: Valedictorian\; Salutatorian\; Colonel Phillip J. Yeckel Athlete of the Year\; USMC Scholastic Excellence\; USMC Distinguished Athlete of the Year\; President's Athlete of the Year\; Outstanding Alumni Award\;  Dean's Award\; USMC Music Excellence\; Mariner of the Year\; Rolls Royce Trophy for Excellence in Aerospace\; Major General Robert E. Friedrich Award\; Daughters of the American Revolution-Thomas Barlow Chapter American History Award\; Rensselear Mathematics and Science Award\; Top Students in English\, Mathematics\, Science\, Social Studies\, Foreign Language\, Computer Science\, Band\, 8-11th grades\; Chris Heard (MMA Class of '99 – perished in the TX A   Dustin Wade Tallichet Scholarship Award\; ALPHA\, DELTA\, ECHO\, FOX and GOLF Company Parents\; Harlingen Rotary INTERACT\; among others. Senior Graduates earning service Academy' appointments\, (Navy) NROTC\, Army ROTC and university scholarships will be recognized.  For more information please call 956-421-9235.
X-ALT-DESC;FMTTYPE=text/html:Corps of Cadets Academic and Post Season Athletic Awards Presentation: Award recipients will receive recognition in the following areas: Valedictorian\; Salutatorian\; Colonel Phillip J. Yeckel Athlete of the Year\; USMC Scholastic Excellence\; USMC Distinguished Athlete of the Year\; President's Athlete of the Year\; Outstanding Alumni Award\;  Dean's Award\; USMC Music Excellence\; Mariner of the Year\; Rolls Royce Trophy for Excellence in Aerospace\; Major General Robert E. Friedrich Award\; Daughters of the American Revolution-Thomas Barlow Chapter American History Award\; Rensselear Mathematics and Science Award\; Top Students in English\, Mathematics\, Science\, Social Studies\, Foreign Language\, Computer Science\, Band\, 8-11th grades\; Chris Heard (MMA Class of '99 – perished in the TX A & M homecoming disaster) Scholarship Award\; Dustin Wade Tallichet Scholarship Award\; ALPHA\, DELTA\, ECHO\, FOX and GOLF Company Parents\; Harlingen Rotary INTERACT\; among others. Senior Graduates earning service Academy' appointments\, (Navy) NROTC\, Army ROTC and university scholarships will be recognized.  For more information please call 956-421-9235.
LOCATION:Phil Yeckel Memorial Auditorium
UID:e.1828.2520
SEQUENCE:3
DTSTAMP:20260422T062112Z
URL:https://business.harlingen.com/events/details/corps-of-cadets-academic-and-post-season-athletic-awards-presentation-05-28-2010-2520
END:VEVENT

END:VCALENDAR
