BEGIN:VCALENDAR
VERSION:2.0
PRODID:-//ChamberMaster//Event Calendar 2.0//EN
METHOD:PUBLISH
X-PUBLISHED-TTL:P3D
REFRESH-INTERVAL:P3D
CALSCALE:GREGORIAN
BEGIN:VEVENT
DTSTART:20100710T003000Z
DTEND:20100710T003000Z
X-MICROSOFT-CDO-ALLDAYEVENT:FALSE
SUMMARY:Country Dance at Fun & Sun RV Featuring Scott Randolph and Bottom Line
DESCRIPTION:Friday\, July 9th\, country dance at Fun & Sun RV park in San Benito.  Music will start at 7:30 pm and end at 10:30 pm.  $6.00 ticket.  BYOB.  Singles welcome.  Line dancers also. Come have some fun.  Smoke Free.  Large dance floor. Door prizes.
X-ALT-DESC;FMTTYPE=text/html:Friday\, July 9th\, country dance at Fun & Sun RV park in San Benito.  Music will start at 7:30 pm and end at 10:30 pm.  $6.00 ticket.  BYOB.  Singles welcome.  Line dancers also. Come have some fun.  Smoke Free.  Large dance floor. Door prizes.\n
LOCATION:
UID:e.1828.2595
SEQUENCE:3
DTSTAMP:20260422T015748Z
URL:https://business.harlingen.com/events/details/country-dance-at-fun-sun-rv-featuring-scott-randolph-and-bottom-line-07-09-2010-2595
END:VEVENT

END:VCALENDAR
