BEGIN:VCALENDAR
VERSION:2.0
PRODID:-//ChamberMaster//Event Calendar 2.0//EN
METHOD:PUBLISH
X-PUBLISHED-TTL:P3D
REFRESH-INTERVAL:P3D
CALSCALE:GREGORIAN
BEGIN:VEVENT
DTSTART:20111217T000000Z
DTEND:20111217T040000Z
X-MICROSOFT-CDO-ALLDAYEVENT:FALSE
SUMMARY:Cowboy Christmas Ball and Auction Fundraiser
DESCRIPTION:Live Music $50 per person or $500 for a reserved table of 10\nAs you know\, Sam Magee and Cheryl Imel have both been battling cancer. We are in the process of organizing a fundraiser to help offset some of the travel expenses that are being incurred on their trips to MD Anderson in Houston.  An evening for all is being planned starting with a fried fish dinner and auction followed by a dance featuring various Valley musicians.  There will also be plenty of things for the kiddos\, such as a hay ride\, smores bar and hot chocolate.  Anyone wishing to help our Stock Show family are welcome as we only have three SHORT weeks to pull this off.  WE NEED HELP with ticket sales\, donation of auction items and event logistics.  Let's all come together and make this a Very Special Christmas for the Magee and Imel families. To buy tickets\, donate auction items or to give your time\, please call: Reagan Florence - 956.245.1707 / Paul McDaniel - 956.330.5860 / Chuck Sellman - 956.975.1254.
X-ALT-DESC;FMTTYPE=text/html:Live Music $50 per person or $500 for a reserved table of 10\nAs you know\, Sam Magee and Cheryl Imel have both been battling cancer. We are in the process of organizing a fundraiser to help offset some of the travel expenses that are being incurred on their trips to MD Anderson in Houston.  An evening for all is being planned starting with a fried fish dinner and auction followed by a dance featuring various Valley musicians.  There will also be plenty of things for the kiddos\, such as a hay ride\, smores bar and hot chocolate.  Anyone wishing to help our Stock Show family are welcome as we only have three SHORT weeks to pull this off.  WE NEED HELP with ticket sales\, donation of auction items and event logistics.  Let's all come together and make this a Very Special Christmas for the Magee and Imel families. To buy tickets\, donate auction items or to give your time\, please call: Reagan Florence - 956.245.1707 / Paul McDaniel - 956.330.5860 / Chuck Sellman - 956.975.1254.\n                \n
LOCATION:
UID:e.1828.3291
SEQUENCE:3
DTSTAMP:20260421T003552Z
URL:https://business.harlingen.com/events/details/cowboy-christmas-ball-and-auction-fundraiser-12-16-2011-3291
END:VEVENT

END:VCALENDAR
