BEGIN:VCALENDAR
VERSION:2.0
PRODID:-//ChamberMaster//Event Calendar 2.0//EN
METHOD:PUBLISH
X-PUBLISHED-TTL:P3D
REFRESH-INTERVAL:P3D
CALSCALE:GREGORIAN
BEGIN:VEVENT
DTSTART:20120204T140000Z
DTEND:20120204T140000Z
X-MICROSOFT-CDO-ALLDAYEVENT:FALSE
SUMMARY:Craft Sale
DESCRIPTION:Laurel Bill\, and the authors of local writing group\, Byliners anthology collections\, will be at the Craft Sale\, this Saturday\, Feb.4\, 2012 beginning at 8:00 AM\, at Park Place Estates-5401 W. Business Hwy 83 between Lewis Ln. and Stuart Place Rd. in the Ballroom.\n \nThe event is free and open to the public
X-ALT-DESC;FMTTYPE=text/html:Laurel Bill\, and the authors of local writing group\, Byliners anthology collections\, will be at the Craft Sale\, this Saturday\, Feb.4\, 2012 beginning at 8:00 AM\, at Park Place Estates-5401 W. Business Hwy 83 between Lewis Ln. and Stuart Place Rd. in the Ballroom.\n \nThe event is free and open to the public\n
LOCATION:Between Lewis Lane and Stuart Place Rd. in the Ballroom.
UID:e.1828.3398
SEQUENCE:3
DTSTAMP:20260420T195433Z
URL:https://business.harlingen.com/events/details/craft-sale-02-04-2012-3398
END:VEVENT

END:VCALENDAR
