BEGIN:VCALENDAR
VERSION:2.0
PRODID:-//ChamberMaster//Event Calendar 2.0//EN
METHOD:PUBLISH
X-PUBLISHED-TTL:P3D
REFRESH-INTERVAL:P3D
CALSCALE:GREGORIAN
BEGIN:VEVENT
DTSTART:20101016T140000Z
DTEND:20101016T190000Z
X-MICROSOFT-CDO-ALLDAYEVENT:FALSE
SUMMARY:Crafty Ladies of CAMELOT Fall and Christmas Craft Sale
DESCRIPTION:Fall and Christmas items\, plants\, baked goods and miscellaneous items for sale.  Come in and do your Christmas shopping early!
X-ALT-DESC;FMTTYPE=text/html:Fall and Christmas items\, plants\, baked goods and miscellaneous items for sale.  Come in and do your Christmas shopping early!\n
LOCATION:Lodge at Camelot.
UID:e.1828.2766
SEQUENCE:3
DTSTAMP:20260421T204211Z
URL:https://business.harlingen.com/events/details/crafty-ladies-of-camelot-fall-and-christmas-craft-sale-10-16-2010-2766
END:VEVENT

END:VCALENDAR
