BEGIN:VCALENDAR
VERSION:2.0
PRODID:-//ChamberMaster//Event Calendar 2.0//EN
METHOD:PUBLISH
X-PUBLISHED-TTL:P3D
REFRESH-INTERVAL:P3D
CALSCALE:GREGORIAN
BEGIN:VEVENT
DTSTART:20110614T223000Z
DTEND:20110614T223000Z
X-MICROSOFT-CDO-ALLDAYEVENT:FALSE
SUMMARY:Craig's Furniture Grand Opening and Ribbon Cutting
DESCRIPTION:Come celebrate Craig's Furniture's grand opening and open house of their new La-Z-Boy Comfort Studio. Event will include finger foods\, beverages and music.
X-ALT-DESC;FMTTYPE=text/html:Come celebrate Craig's Furniture's grand opening and open house of their new La-Z-Boy Comfort Studio. Event will include finger foods\, beverages and music. \n
LOCATION:
UID:e.1828.3078
SEQUENCE:3
DTSTAMP:20260421T085403Z
URL:https://business.harlingen.com/events/details/craig-s-furniture-grand-opening-and-ribbon-cutting-06-14-2011-3078
END:VEVENT

END:VCALENDAR
