BEGIN:VCALENDAR
VERSION:2.0
PRODID:-//ChamberMaster//Event Calendar 2.0//EN
METHOD:PUBLISH
X-PUBLISHED-TTL:P3D
REFRESH-INTERVAL:P3D
CALSCALE:GREGORIAN
BEGIN:VEVENT
DTSTART:20100610T150000Z
DTEND:20100610T150000Z
X-MICROSOFT-CDO-ALLDAYEVENT:FALSE
SUMMARY:Create 'N' Take Thursdays
DESCRIPTION:The Brownsville Historical Association invites the children of the Valley to participate in the first Create 'N' Take Thursday class! This weekly arts and crafts session will take place every Thursday at the Brownsville Heritage Complex starting on Thursday\, June 10\, 2010. The first class will be decorating a wooden frame to take home and put a special picture in! These classes will be $15 per class for non-members\, and $10 per class for members. Register for 4 classes and save money! Call (956) 541-5560 for more information!
X-ALT-DESC;FMTTYPE=text/html:The Brownsville Historical Association invites the children of the Valley to participate in the first Create 'N' Take Thursday class! This weekly arts and crafts session will take place every Thursday at the Brownsville Heritage Complex starting on Thursday\, June 10\, 2010. The first class will be decorating a wooden frame to take home and put a special picture in! These classes will be $15 per class for non-members\, and $10 per class for members. Register for 4 classes and save money! Call (956) 541-5560 for more information!
LOCATION:Brownsville Heritage Complex
UID:e.1828.2534
SEQUENCE:3
DTSTAMP:20260422T030919Z
URL:https://business.harlingen.com/events/details/create-n-take-thursdays-06-10-2010-2534
END:VEVENT

END:VCALENDAR
