BEGIN:VCALENDAR
VERSION:2.0
PRODID:-//ChamberMaster//Event Calendar 2.0//EN
METHOD:PUBLISH
X-PUBLISHED-TTL:P3D
REFRESH-INTERVAL:P3D
CALSCALE:GREGORIAN
BEGIN:VEVENT
DTSTART:20100210T200000Z
DTEND:20100210T220000Z
X-MICROSOFT-CDO-ALLDAYEVENT:FALSE
SUMMARY:Credit & Identity Theft Seminar
DESCRIPTION:Small business owners are invited to attend a free credit and identity theft seminar at the Harlingen Area Chamber of Commerce on February 10 from 2 to 4 pm.  \n\n''Credit & Identity Theft: Understanding & Protecting Credit Information for Small Businesses'' is designed to give business owners a better understanding of their credit as well as tips on how to prevent identity theft of personal and client information.\n\nConsumer Credit Counseling Service of South Texas expert Janie Alegria will discuss ways to improve personal credit by better managing debt.  Attendees will learn about debt validation\, debt consolidation\, credit scores\, and credit reporting agencies.  A discussion on protecting identity information through document shredding and routinely reviewing credit card charges will also be given at this seminar.\n  \nPre-registration is required. To sign up for this seminar or for further information\, please call the Chamber at (956) 423-5440.
X-ALT-DESC;FMTTYPE=text/html:Small business owners are invited to attend a free credit and identity theft seminar at the Harlingen Area Chamber of Commerce on February 10 from 2 to 4 pm.  \n\n''Credit & Identity Theft: Understanding & Protecting Credit Information for Small Businesses'' is designed to give business owners a better understanding of their credit as well as tips on how to prevent identity theft of personal and client information.\n\nConsumer Credit Counseling Service of South Texas expert Janie Alegria will discuss ways to improve personal credit by better managing debt.  Attendees will learn about debt validation\, debt consolidation\, credit scores\, and credit reporting agencies.  A discussion on protecting identity information through document shredding and routinely reviewing credit card charges will also be given at this seminar.\n  \nPre-registration is required. To sign up for this seminar or for further information\, please call the Chamber at (956) 423-5440.\n\n
LOCATION:
UID:e.1828.2313
SEQUENCE:3
DTSTAMP:20260422T093723Z
URL:https://business.harlingen.com/events/details/credit-identity-theft-seminar-02-10-2010-2313
END:VEVENT

END:VCALENDAR
