BEGIN:VCALENDAR
VERSION:2.0
PRODID:-//ChamberMaster//Event Calendar 2.0//EN
METHOD:PUBLISH
X-PUBLISHED-TTL:P3D
REFRESH-INTERVAL:P3D
CALSCALE:GREGORIAN
BEGIN:VEVENT
DTSTART:20121110T180000Z
DTEND:20121110T210000Z
X-MICROSOFT-CDO-ALLDAYEVENT:FALSE
SUMMARY:Crossfit Harlingen 1st Annual Fundraiser for The Wounded Warrior Project/Crossfit Obstacle Endurance Course
DESCRIPTION:Rain or Shine!  Come join us at the 1st Annual Fundraiser for The Wounded Warrior Project by participating in a Crossfit Obstacle Endurance Course.  All funds raised will go to The Wounded Warrior Project. For more information\, contact Wilbert Noyola at CrossFitHarlingen@aol.com. or call (956) 424-5482.  To register online\, go to http://servingamericasheroes.eventbrite.com. Type "Crossfit Harlingen" in the "search" bar.
X-ALT-DESC;FMTTYPE=text/html:Rain or Shine!  Come join us at the 1st Annual Fundraiser for The Wounded Warrior Project by participating in a Crossfit Obstacle Endurance Course.  All funds raised will go to The Wounded Warrior Project. For more information\, contact Wilbert Noyola at CrossFitHarlingen@aol.com. or call (956) 424-5482.  To register online\, go to http://servingamericasheroes.eventbrite.com. Type "Crossfit Harlingen" in the "search" bar. \n\n
LOCATION:
UID:e.1828.4089
SEQUENCE:3
DTSTAMP:20260420T084641Z
URL:https://business.harlingen.com/events/details/crossfit-harlingen-1st-annual-fundraiser-for-the-wounded-warrior-project-crossfit-obstacle-endurance-course-11-10-2012-4089
END:VEVENT

END:VCALENDAR
