BEGIN:VCALENDAR
VERSION:2.0
PRODID:-//ChamberMaster//Event Calendar 2.0//EN
METHOD:PUBLISH
X-PUBLISHED-TTL:P3D
REFRESH-INTERVAL:P3D
CALSCALE:GREGORIAN
BEGIN:VEVENT
DTSTART:20120719T223000Z
DTEND:20120719T223000Z
X-MICROSOFT-CDO-ALLDAYEVENT:FALSE
SUMMARY:Crossfit Harlingen Ribbon Cutting
DESCRIPTION:Come take a tour of our facilities and join us for our ribbon cutting celebration and refreshments!
X-ALT-DESC;FMTTYPE=text/html:Come take a tour of our facilities and join us for our ribbon cutting celebration and refreshments!\n
LOCATION:
UID:e.1828.3884
SEQUENCE:3
DTSTAMP:20260420T131940Z
URL:https://business.harlingen.com/events/details/crossfit-harlingen-ribbon-cutting-07-19-2012-3884
END:VEVENT

END:VCALENDAR
