BEGIN:VCALENDAR
VERSION:2.0
PRODID:-//ChamberMaster//Event Calendar 2.0//EN
METHOD:PUBLISH
X-PUBLISHED-TTL:P3D
REFRESH-INTERVAL:P3D
CALSCALE:GREGORIAN
BEGIN:VEVENT
DTSTART:20100225T150000Z
DTEND:20100225T220000Z
X-MICROSOFT-CDO-ALLDAYEVENT:FALSE
SUMMARY:Customer Appreciation Day at UNIVERSITY OF COSMETOLOGY ARTS & SCIENCES
DESCRIPTION:Customer Appreciation Day at UCAS.   Our Customers Will Receive a Complimentary ''SPA Almond Manicure''.         Harlingen Campus Thursday\, February 25th from 9am to 4pm.  McAllen Campus Saturday\, February 27th from  9am to 4pm.  !!! Reserve Your Spot - Call Today !!!  Harlingen (956) 412-1212.  McAllen  (956) 687-9444.
X-ALT-DESC;FMTTYPE=text/html:Customer Appreciation Day at UCAS.   Our Customers Will Receive a Complimentary ''SPA Almond Manicure''.         Harlingen Campus Thursday\, February 25th from 9am to 4pm.  McAllen Campus Saturday\, February 27th from  9am to 4pm.  !!! Reserve Your Spot - Call Today !!!  Harlingen (956) 412-1212.  McAllen  (956) 687-9444.\n\n
LOCATION:
UID:e.1828.2401
SEQUENCE:3
DTSTAMP:20260422T112351Z
URL:https://business.harlingen.com/events/details/customer-appreciation-day-at-university-of-cosmetology-arts-sciences-02-25-2010-2401
END:VEVENT

END:VCALENDAR
