BEGIN:VCALENDAR
VERSION:2.0
PRODID:-//ChamberMaster//Event Calendar 2.0//EN
METHOD:PUBLISH
X-PUBLISHED-TTL:P3D
REFRESH-INTERVAL:P3D
CALSCALE:GREGORIAN
BEGIN:VEVENT
DTSTART:20110809T220000Z
DTEND:20110809T220000Z
X-MICROSOFT-CDO-ALLDAYEVENT:FALSE
SUMMARY:D2BD Back to School Fall Fashion Benefit: A Night of Candy and Frosting Mixer and Benefit Fashion Show
DESCRIPTION:D2BD Back to School Fall Fashion Benefit: A Night of Candy and Frosting Mixer and Benefit Fashion Show\nPresented by Janine Marie Photography\n \nD2BD by Janine Marie is a program for high school students where they can express themselves and be the individuals they were meant to be.  It gives each student the opportunity to develop and cultivate their interests in public relations\, photography\, video production\, modeling\, and reporting on teen issues\, music and fashion.  We challenge our participants to immerse themselves in creativity and to seek out topics that are informative and illuminative about being a teen. Performances by Typical Tuesday and the Pezz Kids. Candy Bar\, heavy hors d'oeuvres will be served.\n \nFor details and information on sponsorship opportunities\, call Kevin or Janine at (956) 467-4113.
X-ALT-DESC;FMTTYPE=text/html:D2BD Back to School Fall Fashion Benefit: A Night of Candy and Frosting Mixer and Benefit Fashion Show\nPresented by Janine Marie Photography\n \nD2BD by Janine Marie is a program for high school students where they can express themselves and be the individuals they were meant to be.  It gives each student the opportunity to develop and cultivate their interests in public relations\, photography\, video production\, modeling\, and reporting on teen issues\, music and fashion.  We challenge our participants to immerse themselves in creativity and to seek out topics that are informative and illuminative about being a teen. Performances by Typical Tuesday and the Pezz Kids. Candy Bar\, heavy hors d'oeuvres will be served.\n \nFor details and information on sponsorship opportunities\, call Kevin or Janine at (956) 467-4113. \n
LOCATION:
UID:e.1828.3134
SEQUENCE:3
DTSTAMP:20260421T053517Z
URL:https://business.harlingen.com/events/details/d2bd-back-to-school-fall-fashion-benefit-a-night-of-candy-and-frosting-mixer-and-benefit-fashion-show-08-09-2011-3134
END:VEVENT

END:VCALENDAR
