BEGIN:VCALENDAR
VERSION:2.0
PRODID:-//ChamberMaster//Event Calendar 2.0//EN
METHOD:PUBLISH
X-PUBLISHED-TTL:P3D
REFRESH-INTERVAL:P3D
CALSCALE:GREGORIAN
BEGIN:VEVENT
DTSTART;VALUE=DATE:20120811
DTEND;VALUE=DATE:20120812
TRANSP:TRANSPARENT
X-MICROSOFT-CDO-ALLDAYEVENT:TRUE
SUMMARY:D2BD "Stride With Pride" Fall Fashion Event
DESCRIPTION:D2BD "Stride With Pride" Fall Fashion Event:  This is an event you will not want to miss!  Not only is this the fourth year for this spectacular charity event\, but it is also extra special as it is in conjunction with Harlingen High School's 100 years of education and tradition celebration!  All funds raised will benefit the Harlingen Area Educational Foundation. If you are interested in becoming a  sponsorship partner\, please call (956) 467-4113 and mention the "Stride with Pride" event. The deadline for sponsorship is July 14\, 2012.  The event will be held on Saturday\, August 11\, 2012\, at The Reese Penthouse beginning at 7:00 p.m.
X-ALT-DESC;FMTTYPE=text/html:D2BD "Stride With Pride" Fall Fashion Event:  This is an event you will not want to miss!  Not only is this the fourth year for this spectacular charity event\, but it is also extra special as it is in conjunction with Harlingen High School's 100 years of education and tradition celebration!  All funds raised will benefit the Harlingen Area Educational Foundation. If you are interested in becoming a  sponsorship partner\, please call (956) 467-4113 and mention the "Stride with Pride" event. The deadline for sponsorship is July 14\, 2012.  The event will be held on Saturday\, August 11\, 2012\, at The Reese Penthouse beginning at 7:00 p.m. 
LOCATION:
UID:e.1828.3880
SEQUENCE:3
DTSTAMP:20260420T100259Z
URL:https://business.harlingen.com/events/details/d2bd-stride-with-pride-fall-fashion-event-08-11-2012-3880
END:VEVENT

END:VCALENDAR
