BEGIN:VCALENDAR
VERSION:2.0
PRODID:-//ChamberMaster//Event Calendar 2.0//EN
METHOD:PUBLISH
X-PUBLISHED-TTL:P3D
REFRESH-INTERVAL:P3D
CALSCALE:GREGORIAN
BEGIN:VEVENT
DTSTART:20101118T233000Z
DTEND:20101119T013000Z
X-MICROSOFT-CDO-ALLDAYEVENT:FALSE
SUMMARY:Dallas Brass
DESCRIPTION:Harlingen Concert Association presents\, Dallas Brass\nOne of America's foremost musical ensembles.  Come enjoy this unique blend of traditional brass instruments with a complement of drums and percussion.  For info and ticket prices please visit www.harlingenconcert.com
X-ALT-DESC;FMTTYPE=text/html:Harlingen Concert Association presents\, Dallas Brass\nOne of America's foremost musical ensembles.  Come enjoy this unique blend of traditional brass instruments with a complement of drums and percussion.  For info and ticket prices please visit www.harlingenconcert.com\n
LOCATION:
UID:e.1828.2846
SEQUENCE:3
DTSTAMP:20260421T203305Z
URL:https://business.harlingen.com/events/details/dallas-brass-11-18-2010-2846
END:VEVENT

END:VCALENDAR
