BEGIN:VCALENDAR
VERSION:2.0
PRODID:-//ChamberMaster//Event Calendar 2.0//EN
METHOD:PUBLISH
X-PUBLISHED-TTL:P3D
REFRESH-INTERVAL:P3D
CALSCALE:GREGORIAN
BEGIN:VEVENT
DTSTART:20200222T013000Z
DTEND:20200222T033000Z
X-MICROSOFT-CDO-ALLDAYEVENT:FALSE
SUMMARY:Dan Miller's Cowboy Music Review
DESCRIPTION:Dan Miller brings his Western music and variety show to Harlingen direct from the award-winning Buffalo Bill Center in Wyoming. The group has been featured on RFD-TV\, The Travel Channel\, ESPN\, and GAC. Their music ranges from Americana and Western to bluegrass and gospel. Presented by the nonprofit Harlingen Concert Association. For more info and to purchase tickets\, visit www.HarlingenConcert.com.
X-ALT-DESC;FMTTYPE=text/html:Dan Miller brings his Western music and variety show to Harlingen direct from the award-winning Buffalo Bill Center in Wyoming. The group has been featured on RFD-TV\, The Travel Channel\, ESPN\, and GAC. Their music ranges from Americana and Western to bluegrass and gospel. Presented by the nonprofit Harlingen Concert Association. For more info and to purchase tickets\, visit www.HarlingenConcert.com.
LOCATION:Harlingen Municipal Auditorium\, 1204 Fair Park Blvd.
UID:e.1828.15195
SEQUENCE:3
DTSTAMP:20260422T235631Z
URL:https://business.harlingen.com/events/details/dan-miller-s-cowboy-music-review-15195
END:VEVENT

END:VCALENDAR
