BEGIN:VCALENDAR
VERSION:2.0
PRODID:-//ChamberMaster//Event Calendar 2.0//EN
METHOD:PUBLISH
X-PUBLISHED-TTL:P3D
REFRESH-INTERVAL:P3D
CALSCALE:GREGORIAN
BEGIN:VEVENT
DTSTART:20100107T013000Z
DTEND:20100107T013000Z
X-MICROSOFT-CDO-ALLDAYEVENT:FALSE
SUMMARY:Dance
DESCRIPTION:Big Dance Party to start the new year!! The Agency Band plays at the Dance Capital of Texas- \nFunNSun RV Resort in San Benito. Jan.6th\, 2010
X-ALT-DESC;FMTTYPE=text/html:Big Dance Party to start the new year!! The Agency Band plays at the Dance Capital of Texas- \nFunNSun RV Resort in San Benito. Jan.6th\, 2010
LOCATION:FunNSun RV Resort off 509 south Paso Real Exit\, San Benito
UID:e.1828.2236
SEQUENCE:3
DTSTAMP:20260422T111437Z
URL:https://business.harlingen.com/events/details/dance-01-06-2010-2236
END:VEVENT

END:VCALENDAR
