BEGIN:VCALENDAR
VERSION:2.0
PRODID:-//ChamberMaster//Event Calendar 2.0//EN
METHOD:PUBLISH
X-PUBLISHED-TTL:P3D
REFRESH-INTERVAL:P3D
CALSCALE:GREGORIAN
BEGIN:VEVENT
DTSTART:20101128T010000Z
DTEND:20101128T040000Z
X-MICROSOFT-CDO-ALLDAYEVENT:FALSE
SUMMARY:Dance with Deuces Wild
DESCRIPTION:Your invited for some fun of dancing and music $4.00 per person BYOB.  For more information please call Rida Penney Activities Director phone # 428-7116.
X-ALT-DESC;FMTTYPE=text/html:Your invited for some fun of dancing and music $4.00 per person BYOB.  For more information please call Rida Penney Activities Director phone # 428-7116.
LOCATION:
UID:e.1828.2831
SEQUENCE:3
DTSTAMP:20260421T203307Z
URL:https://business.harlingen.com/events/details/dance-with-deuces-wild-11-27-2010-2831
END:VEVENT

END:VCALENDAR
