BEGIN:VCALENDAR
VERSION:2.0
PRODID:-//ChamberMaster//Event Calendar 2.0//EN
METHOD:PUBLISH
X-PUBLISHED-TTL:P3D
REFRESH-INTERVAL:P3D
CALSCALE:GREGORIAN
BEGIN:VEVENT
DTSTART:20101213T010000Z
DTEND:20101213T040000Z
X-MICROSOFT-CDO-ALLDAYEVENT:FALSE
SUMMARY:DANCE WITH GILLE FOR THE NEEDY
DESCRIPTION:DANCE WITH GILLE!  DONATIONS FOR THE NEEDY.  For more information please call Rida Penney at 956-428-7116.
X-ALT-DESC;FMTTYPE=text/html:DANCE WITH GILLE!  DONATIONS FOR THE NEEDY.  For more information please call Rida Penney at 956-428-7116.
LOCATION:
UID:e.1828.2853
SEQUENCE:3
DTSTAMP:20260421T185156Z
URL:https://business.harlingen.com/events/details/dance-with-gille-for-the-needy-12-12-2010-2853
END:VEVENT

END:VCALENDAR
