BEGIN:VCALENDAR
VERSION:2.0
PRODID:-//ChamberMaster//Event Calendar 2.0//EN
METHOD:PUBLISH
X-PUBLISHED-TTL:P3D
REFRESH-INTERVAL:P3D
CALSCALE:GREGORIAN
BEGIN:VEVENT
DTSTART:20101205T010000Z
DTEND:20101205T040000Z
X-MICROSOFT-CDO-ALLDAYEVENT:FALSE
SUMMARY:Dance with Mystyx
DESCRIPTION:Your invited for some fun dancing and music $4.00 per person BYOB.\nFor more information please call the Rida Penney Actiivity Director 956-428-7116.
X-ALT-DESC;FMTTYPE=text/html:Your invited for some fun dancing and music $4.00 per person BYOB.\nFor more information please call the Rida Penney Actiivity Director 956-428-7116.
LOCATION:
UID:e.1828.2833
SEQUENCE:3
DTSTAMP:20260421T171306Z
URL:https://business.harlingen.com/events/details/dance-with-mystyx-12-04-2010-2833
END:VEVENT

END:VCALENDAR
