BEGIN:VCALENDAR
VERSION:2.0
PRODID:-//ChamberMaster//Event Calendar 2.0//EN
METHOD:PUBLISH
X-PUBLISHED-TTL:P3D
REFRESH-INTERVAL:P3D
CALSCALE:GREGORIAN
BEGIN:VEVENT
DTSTART:20101212T010000Z
DTEND:20101212T040000Z
X-MICROSOFT-CDO-ALLDAYEVENT:FALSE
SUMMARY:Dance with South Texas Music
DESCRIPTION:South Texas Music $4.00 per person BYOB.  For more information please call Rida Penney at 956-428-7116
X-ALT-DESC;FMTTYPE=text/html:South Texas Music $4.00 per person BYOB.  For more information please call Rida Penney at 956-428-7116
LOCATION:
UID:e.1828.2852
SEQUENCE:3
DTSTAMP:20260421T171452Z
URL:https://business.harlingen.com/events/details/dance-with-south-texas-music-12-11-2010-2852
END:VEVENT

END:VCALENDAR
