BEGIN:VCALENDAR
VERSION:2.0
PRODID:-//ChamberMaster//Event Calendar 2.0//EN
METHOD:PUBLISH
X-PUBLISHED-TTL:P3D
REFRESH-INTERVAL:P3D
CALSCALE:GREGORIAN
BEGIN:VEVENT
DTSTART:20110101T020000Z
DTEND:20101231T060000Z
X-MICROSOFT-CDO-ALLDAYEVENT:FALSE
SUMMARY:DANCE WITH "THE A TRAIN" NEW YEARS EVE
DESCRIPTION:Dance with "THE A TRAIN" NEW YEARS EVE $20.00 per person BYOB. \nFor more information please call Rida Penney at 956-428-7116.
X-ALT-DESC;FMTTYPE=text/html:Dance with "THE A TRAIN" NEW YEARS EVE $20.00 per person BYOB. \nFor more information please call Rida Penney at 956-428-7116.
LOCATION:
UID:e.1828.2856
SEQUENCE:3
DTSTAMP:20260421T185221Z
URL:https://business.harlingen.com/events/details/dance-with-the-a-train-new-years-eve-12-31-2010-2856
END:VEVENT

END:VCALENDAR
