BEGIN:VCALENDAR
VERSION:2.0
PRODID:-//ChamberMaster//Event Calendar 2.0//EN
METHOD:PUBLISH
X-PUBLISHED-TTL:P3D
REFRESH-INTERVAL:P3D
CALSCALE:GREGORIAN
BEGIN:VEVENT
DTSTART:20091121T150000Z
DTEND:20091121T150000Z
X-MICROSOFT-CDO-ALLDAYEVENT:FALSE
SUMMARY:Day of Giving
DESCRIPTION:The Children's Museum of Brownsville is hosting "A day of Giving". This special day will allow all guests who are non-members of the Museum to come in at a low cost of $3.00 per person\, and the members will receive free admission if they bring a new unwrapped packaged toy.
X-ALT-DESC;FMTTYPE=text/html:The Children's Museum of Brownsville is hosting "A day of Giving". This special day will allow all guests who are non-members of the Museum to come in at a low cost of $3.00 per person\, and the members will receive free admission if they bring a new unwrapped packaged toy. 
LOCATION:Children's Museum of Brownsville
UID:e.1828.2202
SEQUENCE:3
DTSTAMP:20260422T125928Z
URL:https://business.harlingen.com/events/details/day-of-giving-11-21-2009-2202
END:VEVENT

END:VCALENDAR
