BEGIN:VCALENDAR
VERSION:2.0
PRODID:-//ChamberMaster//Event Calendar 2.0//EN
METHOD:PUBLISH
X-PUBLISHED-TTL:P3D
REFRESH-INTERVAL:P3D
CALSCALE:GREGORIAN
BEGIN:VEVENT
DTSTART:20091101T220000Z
DTEND:20091102T010000Z
X-MICROSOFT-CDO-ALLDAYEVENT:FALSE
SUMMARY:Day of the Dead Fest 2009
DESCRIPTION:Come join the Brownsville Historical Association as it celebrates its 3rd Annual Day of the Dead Fest.  Vendors will be available to sell food\, crafts\, and demonstrate traditional day of the dead crafts.  Performances will include Joe and Rosa Perez of Rumbo al'Anacua and Porter High School Folklorico Dance Troop\, among others. Sponsored by Target and BCIC.
X-ALT-DESC;FMTTYPE=text/html:Come join the Brownsville Historical Association as it celebrates its 3rd Annual Day of the Dead Fest.  Vendors will be available to sell food\, crafts\, and demonstrate traditional day of the dead crafts.  Performances will include Joe and Rosa Perez of Rumbo al'Anacua and Porter High School Folklorico Dance Troop\, among others. Sponsored by Target and BCIC.
LOCATION:Take US 77/83 to the 6th street exit\, which will be closed near the Old City Cemetery Center. Parking is available on nearby streets and parking lots.
UID:e.1828.2173
SEQUENCE:3
DTSTAMP:20260422T143908Z
URL:https://business.harlingen.com/events/details/day-of-the-dead-fest-2009-11-01-2009-2173
END:VEVENT

END:VCALENDAR
