BEGIN:VCALENDAR
VERSION:2.0
PRODID:-//ChamberMaster//Event Calendar 2.0//EN
METHOD:PUBLISH
X-PUBLISHED-TTL:P3D
REFRESH-INTERVAL:P3D
CALSCALE:GREGORIAN
BEGIN:VEVENT
DTSTART:20091102T000000Z
DTEND:20091102T010000Z
X-MICROSOFT-CDO-ALLDAYEVENT:FALSE
SUMMARY:Day of the Dead Fest 2009
DESCRIPTION:Meet and greet the talented faculty and students of BISD showcased in this year's BISD Faculty Art Show.  Refreshments will be served.
X-ALT-DESC;FMTTYPE=text/html:Meet and greet the talented faculty and students of BISD showcased in this year's BISD Faculty Art Show.  Refreshments will be served.
LOCATION:Take US 77/83 to the 6th street exit\, which will be closed near the Old City Cemetery Center. Parking is available on nearby streets and parking lots.
UID:e.1828.2177
SEQUENCE:3
DTSTAMP:20260422T144316Z
URL:https://business.harlingen.com/events/details/day-of-the-dead-fest-2009-11-01-2009-2177
END:VEVENT

END:VCALENDAR
