BEGIN:VCALENDAR
VERSION:2.0
PRODID:-//ChamberMaster//Event Calendar 2.0//EN
METHOD:PUBLISH
X-PUBLISHED-TTL:P3D
REFRESH-INTERVAL:P3D
CALSCALE:GREGORIAN
BEGIN:VEVENT
DTSTART:20091212T180000Z
DTEND:20091212T200000Z
X-MICROSOFT-CDO-ALLDAYEVENT:FALSE
SUMMARY:Dear Santa
DESCRIPTION:Come to the Children's Museum of Brownsville and celebrate the Holiday Season at our Winter Wonderland!  You would be able to take pictures with Mr. & Mrs. Claus\, mail a letter to the North Pole and participate in Gingerbread House Workshops!
X-ALT-DESC;FMTTYPE=text/html:Come to the Children's Museum of Brownsville and celebrate the Holiday Season at our Winter Wonderland!  You would be able to take pictures with Mr. & Mrs. Claus\, mail a letter to the North Pole and participate in Gingerbread House Workshops! \n
LOCATION:Children's Museum of Brownsville
UID:e.1828.2196
SEQUENCE:3
DTSTAMP:20260422T124933Z
URL:https://business.harlingen.com/events/details/dear-santa-12-12-2009-2196
END:VEVENT

END:VCALENDAR
