BEGIN:VCALENDAR
VERSION:2.0
PRODID:-//ChamberMaster//Event Calendar 2.0//EN
METHOD:PUBLISH
X-PUBLISHED-TTL:P3D
REFRESH-INTERVAL:P3D
CALSCALE:GREGORIAN
BEGIN:VEVENT
DTSTART:20101117T003000Z
DTEND:20101117T003000Z
X-MICROSOFT-CDO-ALLDAYEVENT:FALSE
SUMMARY:Desert with the Doctor
DESCRIPTION:Deep Brain Stimulation for Parkinson's Disease\nSpeakers: Alejandro Betancourt\, MD - Neurosurgeon\nJose Dones\, MD - Neurosurgeon\nUpdates for Parkinson's Disease Management\nSpeaker: Victoria Parada\, MD - Neurologist\n\nFREE Admission • Heart Healthy Dessert Provided (RSVP required).
X-ALT-DESC;FMTTYPE=text/html:Deep Brain Stimulation for Parkinson's Disease\nSpeakers: Alejandro Betancourt\, MD - Neurosurgeon\nJose Dones\, MD - Neurosurgeon\nUpdates for Parkinson's Disease Management\nSpeaker: Victoria Parada\, MD - Neurologist\n\nFREE Admission • Heart Healthy Dessert Provided (RSVP required).
LOCATION:Woodward Conference Center VBMC-Harlingen (South Tower Entrance)
UID:e.1828.2845
SEQUENCE:3
DTSTAMP:20260421T203502Z
URL:https://business.harlingen.com/events/details/desert-with-the-doctor-11-16-2010-2845
END:VEVENT

END:VCALENDAR
