BEGIN:VCALENDAR
VERSION:2.0
PRODID:-//ChamberMaster//Event Calendar 2.0//EN
METHOD:PUBLISH
X-PUBLISHED-TTL:P3D
REFRESH-INTERVAL:P3D
CALSCALE:GREGORIAN
BEGIN:VEVENT
DTSTART:20101208T003000Z
DTEND:20101208T003000Z
X-MICROSOFT-CDO-ALLDAYEVENT:FALSE
SUMMARY:Desert with the Doctor
DESCRIPTION:Please join us for an informative presentation and learn the latest facts about the incident rates for colon cancer\, and the steps you can take to aid in the prevention of this disease. You'll enjoy a delicious\, heart-healthy dessert and have an opportunity to ask questions at the end of the session. Join us in the pursuit of a healthier life.\n\nThe Facts about Colon Cancer\nSpeaker | Eldo E. Frezza\, MD – General Surgeon\nWoodward Conference Center\n\nFREE Admission • Heart Healthy Dessert Provided\nRSVP required. Please call 1-888-902-LIFE (5433). Seating is limited.
X-ALT-DESC;FMTTYPE=text/html:Please join us for an informative presentation and learn the latest facts about the incident rates for colon cancer\, and the steps you can take to aid in the prevention of this disease. You'll enjoy a delicious\, heart-healthy dessert and have an opportunity to ask questions at the end of the session. Join us in the pursuit of a healthier life.\n\nThe Facts about Colon Cancer\nSpeaker | Eldo E. Frezza\, MD – General Surgeon\nWoodward Conference Center\n\nFREE Admission • Heart Healthy Dessert Provided\nRSVP required. Please call 1-888-902-LIFE (5433). Seating is limited.
LOCATION:Woodward Conference Center VBMC-Harlingen ( South Tower Entrance)
UID:e.1828.2859
SEQUENCE:3
DTSTAMP:20260421T171416Z
URL:https://business.harlingen.com/events/details/desert-with-the-doctor-12-07-2010-2859
END:VEVENT

END:VCALENDAR
