BEGIN:VCALENDAR
VERSION:2.0
PRODID:-//ChamberMaster//Event Calendar 2.0//EN
METHOD:PUBLISH
X-PUBLISHED-TTL:P3D
REFRESH-INTERVAL:P3D
CALSCALE:GREGORIAN
BEGIN:VEVENT
DTSTART:20091104T003000Z
DTEND:20091104T003000Z
X-MICROSOFT-CDO-ALLDAYEVENT:FALSE
SUMMARY:Dessert and Deep Conversation
DESCRIPTION:Please join us on Tuesday\, November 03\, 2009 at 6:30 pm for four informative presentations in one evening and learn about the latest advances in the treatment of Gastroesophageal Reflux Disease (GERD) and Barrett's Esophagus. You'll enjoy a delicious heart-healthy dessert and have an opportunity to ask questions at the end of each session. Topics include What is GERD? - Speaker: Jason Phillips\, MD...What is Barrett's Esophagus? - Speaker: Wayne Green\, MD...Standard Treatments - Speaker: Oral James\, MD...New Treatments - Speaker: Nolan Perez\, MD.  FREE Admission!  Seating is limited.  RSVP REQUIRED. Please call 1-888-902-LIFE (5433).  Join us in the pursuit of a healthier life.
X-ALT-DESC;FMTTYPE=text/html:Please join us on Tuesday\, November 03\, 2009 at 6:30 pm for four informative presentations in one evening and learn about the latest advances in the treatment of Gastroesophageal Reflux Disease (GERD) and Barrett's Esophagus. You'll enjoy a delicious heart-healthy dessert and have an opportunity to ask questions at the end of each session. Topics include What is GERD? - Speaker: Jason Phillips\, MD...What is Barrett's Esophagus? - Speaker: Wayne Green\, MD...Standard Treatments - Speaker: Oral James\, MD...New Treatments - Speaker: Nolan Perez\, MD.  FREE Admission!  Seating is limited.  RSVP REQUIRED. Please call 1-888-902-LIFE (5433).  Join us in the pursuit of a healthier life. \n
LOCATION:South Tower Entrance
UID:e.1828.2163
SEQUENCE:3
DTSTAMP:20260422T125724Z
URL:https://business.harlingen.com/events/details/dessert-and-deep-conversation-11-03-2009-2163
END:VEVENT

END:VCALENDAR
