BEGIN:VCALENDAR
VERSION:2.0
PRODID:-//ChamberMaster//Event Calendar 2.0//EN
METHOD:PUBLISH
X-PUBLISHED-TTL:P3D
REFRESH-INTERVAL:P3D
CALSCALE:GREGORIAN
BEGIN:VEVENT
DTSTART:20100113T004500Z
DTEND:20100113T004500Z
X-MICROSOFT-CDO-ALLDAYEVENT:FALSE
SUMMARY:Dessert with the Doctor
DESCRIPTION:Please join us for two informative presentations in one evening and learn how you may be able to improve your surgical results\, as well as the latest information about Lipidemia. You'll enjoy a delicious heart-healthy dessert\, and have an opportunity to ask questions at the end of each session. Topics include Everything You Need to Know About Lipidemia presented by Juan Garza\, MD – Cardiologist and Need Surgery? It's Important to be Ready! presented by Ann McCracken\, MD - Surgeon.  FREE Admission. Seating is limited.  RSVP required.  Please call 1-888-902-LIFE (5433).  Join us in the pursuit of a healthier life.
X-ALT-DESC;FMTTYPE=text/html:Please join us for two informative presentations in one evening and learn how you may be able to improve your surgical results\, as well as the latest information about Lipidemia. You'll enjoy a delicious heart-healthy dessert\, and have an opportunity to ask questions at the end of each session. Topics include Everything You Need to Know About Lipidemia presented by Juan Garza\, MD – Cardiologist and Need Surgery? It's Important to be Ready! presented by Ann McCracken\, MD - Surgeon.  FREE Admission. Seating is limited.  RSVP required.  Please call 1-888-902-LIFE (5433).  Join us in the pursuit of a healthier life. 
LOCATION:South Tower Entrance
UID:e.1828.2302
SEQUENCE:3
DTSTAMP:20260422T111835Z
URL:https://business.harlingen.com/events/details/dessert-with-the-doctor-01-12-2010-2302
END:VEVENT

END:VCALENDAR
