BEGIN:VCALENDAR
VERSION:2.0
PRODID:-//ChamberMaster//Event Calendar 2.0//EN
METHOD:PUBLISH
X-PUBLISHED-TTL:P3D
REFRESH-INTERVAL:P3D
CALSCALE:GREGORIAN
BEGIN:VEVENT
DTSTART:20100203T004500Z
DTEND:20100203T004500Z
X-MICROSOFT-CDO-ALLDAYEVENT:FALSE
SUMMARY:Dessert with the Doctor
DESCRIPTION:Please join us for two informative presentations in one evening and learn how fat and diet affect your health\, as well as information regarding a new procedure to eliminate fat deposits. You'll enjoy a delicious heart-healthy dessert\, and have an opportunity to ask questions at the end of each session. Join us in the pursuit of a healthier life.  FREE Admission.  Heart Healthy Dessert Provided.  RSVP required. Please call 1-888-902-LIFE (5433).  Seating is limited. Topics include Laser Liposuction – A New Procedure to Eliminate Fat Deposits\nSpeaker: Ashraf Hilmy\, MD\, Surgeon and Fat\, Diet and Health - Speaker: Dorothy Nesmith\, MD\, Physical Medicine and Rehab.
X-ALT-DESC;FMTTYPE=text/html:Please join us for two informative presentations in one evening and learn how fat and diet affect your health\, as well as information regarding a new procedure to eliminate fat deposits. You'll enjoy a delicious heart-healthy dessert\, and have an opportunity to ask questions at the end of each session. Join us in the pursuit of a healthier life.  FREE Admission.  Heart Healthy Dessert Provided.  RSVP required. Please call 1-888-902-LIFE (5433).  Seating is limited. Topics include Laser Liposuction – A New Procedure to Eliminate Fat Deposits\nSpeaker: Ashraf Hilmy\, MD\, Surgeon and Fat\, Diet and Health - Speaker: Dorothy Nesmith\, MD\, Physical Medicine and Rehab.\n
LOCATION:Woodward Conference Center (South Tower Entrance)
UID:e.1828.2339
SEQUENCE:3
DTSTAMP:20260422T111833Z
URL:https://business.harlingen.com/events/details/dessert-with-the-doctor-02-02-2010-2339
END:VEVENT

END:VCALENDAR
