BEGIN:VCALENDAR
VERSION:2.0
PRODID:-//ChamberMaster//Event Calendar 2.0//EN
METHOD:PUBLISH
X-PUBLISHED-TTL:P3D
REFRESH-INTERVAL:P3D
CALSCALE:GREGORIAN
BEGIN:VEVENT
DTSTART:20110223T003000Z
DTEND:20110223T003000Z
X-MICROSOFT-CDO-ALLDAYEVENT:FALSE
SUMMARY:Dessert with the Doctor
DESCRIPTION:Dessert with the Doctor\nSpeaker: Oladayo Sanusi\, M.D.-Nephrologist \nUnderstanding Kidney Failure \n\nFREE Admission • Heart Healthy Dessert Provided\nJoin Valley Baptist for an informative presentation and learn important information about Kidney Failure. You'll enjoy a delicious\, heart-healthy dessert and have an opportunity to ask questions at the end of the session. RSVP required. \nPlease call 888-902-5433. Seating is limited.
X-ALT-DESC;FMTTYPE=text/html:Dessert with the Doctor\nSpeaker: Oladayo Sanusi\, M.D.-Nephrologist \nUnderstanding Kidney Failure \n\nFREE Admission • Heart Healthy Dessert Provided\nJoin Valley Baptist for an informative presentation and learn important information about Kidney Failure. You'll enjoy a delicious\, heart-healthy dessert and have an opportunity to ask questions at the end of the session. RSVP required. \nPlease call 888-902-5433. Seating is limited.\n
LOCATION:Woodward Conference Center VBMC Harlingen South Tower Entrance
UID:e.1828.2915
SEQUENCE:3
DTSTAMP:20260421T142321Z
URL:https://business.harlingen.com/events/details/dessert-with-the-doctor-02-22-2011-2915
END:VEVENT

END:VCALENDAR
