BEGIN:VCALENDAR
VERSION:2.0
PRODID:-//ChamberMaster//Event Calendar 2.0//EN
METHOD:PUBLISH
X-PUBLISHED-TTL:P3D
REFRESH-INTERVAL:P3D
CALSCALE:GREGORIAN
BEGIN:VEVENT
DTSTART:20110324T233000Z
DTEND:20110324T233000Z
X-MICROSOFT-CDO-ALLDAYEVENT:FALSE
SUMMARY:Dessert with the Doctor
DESCRIPTION:Colorectal Cancer Screenings\nSpeakers: Wayne Green\, M.D. - Gastroenterologist & Oral James\, M.D. - Gastroenterologist\n\nFREE Admission • Heart Healthy Dessert Provided\nJoin Valley Baptist for an informative presentation and learn the importance of Colorectal Cancer screenings. You'll enjoy a delicious\, heart-healthy dessert and have an opportunity to ask questions at the end of the session. RSVP required. Please call 888-902-5433. Seating is limited.
X-ALT-DESC;FMTTYPE=text/html:Colorectal Cancer Screenings\nSpeakers: Wayne Green\, M.D. - Gastroenterologist & Oral James\, M.D. - Gastroenterologist\n\nFREE Admission • Heart Healthy Dessert Provided\nJoin Valley Baptist for an informative presentation and learn the importance of Colorectal Cancer screenings. You'll enjoy a delicious\, heart-healthy dessert and have an opportunity to ask questions at the end of the session. RSVP required. Please call 888-902-5433. Seating is limited.   \n\n
LOCATION:Woodward Conference Center VBMC-Harlingen (South Tower)
UID:e.1828.2999
SEQUENCE:3
DTSTAMP:20260421T124603Z
URL:https://business.harlingen.com/events/details/dessert-with-the-doctor-03-24-2011-2999
END:VEVENT

END:VCALENDAR
