BEGIN:VCALENDAR
VERSION:2.0
PRODID:-//ChamberMaster//Event Calendar 2.0//EN
METHOD:PUBLISH
X-PUBLISHED-TTL:P3D
REFRESH-INTERVAL:P3D
CALSCALE:GREGORIAN
BEGIN:VEVENT
DTSTART:20100413T234500Z
DTEND:20100413T234500Z
X-MICROSOFT-CDO-ALLDAYEVENT:FALSE
SUMMARY:Dessert with the Doctor
DESCRIPTION:Please join us for two informative presentations in one evening and learn about the symptoms of urinary incontinence\, and the benefits of treating this condition with robotic surgery. You'll enjoy a delicious heart-healthy dessert\, and have an opportunity to ask questions at the end of each session. Join us in the pursuit of a healthier life.  Topics include Minimally Invasive Surgery presented by Erin McCormick\, MD - Urologist and Male & Female Incontinence presented by Michael Finger\, MD - Urologist.  FREE Admission.  Seating is limited.  RSVP required. Please call 1-888-902-LIFE (5433).
X-ALT-DESC;FMTTYPE=text/html:Please join us for two informative presentations in one evening and learn about the symptoms of urinary incontinence\, and the benefits of treating this condition with robotic surgery. You'll enjoy a delicious heart-healthy dessert\, and have an opportunity to ask questions at the end of each session. Join us in the pursuit of a healthier life.  Topics include Minimally Invasive Surgery presented by Erin McCormick\, MD - Urologist and Male & Female Incontinence presented by Michael Finger\, MD - Urologist.  FREE Admission.  Seating is limited.  RSVP required. Please call 1-888-902-LIFE (5433).\n
LOCATION:Woodward Conference Center South Tower Entrance
UID:e.1828.2479
SEQUENCE:3
DTSTAMP:20260422T061709Z
URL:https://business.harlingen.com/events/details/dessert-with-the-doctor-04-13-2010-2479
END:VEVENT

END:VCALENDAR
