BEGIN:VCALENDAR
VERSION:2.0
PRODID:-//ChamberMaster//Event Calendar 2.0//EN
METHOD:PUBLISH
X-PUBLISHED-TTL:P3D
REFRESH-INTERVAL:P3D
CALSCALE:GREGORIAN
BEGIN:VEVENT
DTSTART:20100713T234500Z
DTEND:20100713T234500Z
X-MICROSOFT-CDO-ALLDAYEVENT:FALSE
SUMMARY:Dessert with the Doctor
DESCRIPTION:Please join us for an informative presentation on the latest non-invasive techniques for women's surgeries using the Da Vinci Robot on Tuesday\, July 13\, 2010 at 6:45 pm.  Guest speaker will be Susan Hunter\, MD.  You'll enjoy a\ndelicious\, heart-healthy dessert and have an opportunity to ask questions at the end of the session.  Join us in the pursuit of a healthier life. FREE ADMISSION.  Seating is limited.  RSVP required. Please call 1-888-902-LIFE (5433).
X-ALT-DESC;FMTTYPE=text/html:Please join us for an informative presentation on the latest non-invasive techniques for women's surgeries using the Da Vinci Robot on Tuesday\, July 13\, 2010 at 6:45 pm.  Guest speaker will be Susan Hunter\, MD.  You'll enjoy a\ndelicious\, heart-healthy dessert and have an opportunity to ask questions at the end of the session.  Join us in the pursuit of a healthier life. FREE ADMISSION.  Seating is limited.  RSVP required. Please call 1-888-902-LIFE (5433).\n
LOCATION:Woodward Conference Center - South Tower Entrance
UID:e.1828.2593
SEQUENCE:3
DTSTAMP:20260422T015334Z
URL:https://business.harlingen.com/events/details/dessert-with-the-doctor-07-13-2010-2593
END:VEVENT

END:VCALENDAR
