BEGIN:VCALENDAR
VERSION:2.0
PRODID:-//ChamberMaster//Event Calendar 2.0//EN
METHOD:PUBLISH
X-PUBLISHED-TTL:P3D
REFRESH-INTERVAL:P3D
CALSCALE:GREGORIAN
BEGIN:VEVENT
DTSTART:20100914T233000Z
DTEND:20100914T233000Z
X-MICROSOFT-CDO-ALLDAYEVENT:FALSE
SUMMARY:Dessert with the Doctor
DESCRIPTION:September is National Peripheral Arterial Disease Awareness Month.  Please join us for two informative presentations in one evening and learn about treatment of Peripheral Artery Disease and caring for small wounds that are slow to heal.  You'll enjoy a delicious\, heart-healthy dessert and have an opportunity to ask questions at the end of the session. Join us in the pursuit of a healthier life. Topics of discussion include ''Live Longer - Treat Your Legs'' presented by Farley Neasman\, MD and ''Small Wounds\, Big Problems'' presented by  Ivellisse Lugo\, MD.  FREE Admission.  Heart Healthy Dessert Provided.  RSVP required.  Please call (956) 542-5433.  Seating is limited.
X-ALT-DESC;FMTTYPE=text/html:September is National Peripheral Arterial Disease Awareness Month.  Please join us for two informative presentations in one evening and learn about treatment of Peripheral Artery Disease and caring for small wounds that are slow to heal.  You'll enjoy a delicious\, heart-healthy dessert and have an opportunity to ask questions at the end of the session. Join us in the pursuit of a healthier life. Topics of discussion include ''Live Longer - Treat Your Legs'' presented by Farley Neasman\, MD and ''Small Wounds\, Big Problems'' presented by  Ivellisse Lugo\, MD.  FREE Admission.  Heart Healthy Dessert Provided.  RSVP required.  Please call (956) 542-5433.  Seating is limited.\n
LOCATION:South Tower Entrance
UID:e.1828.2721
SEQUENCE:3
DTSTAMP:20260421T223034Z
URL:https://business.harlingen.com/events/details/dessert-with-the-doctor-09-14-2010-2721
END:VEVENT

END:VCALENDAR
